BEGIN:VCALENDAR
VERSION:2.0
PRODID:-//ABEC South - ECPv6.15.20//NONSGML v1.0//EN
CALSCALE:GREGORIAN
METHOD:PUBLISH
X-ORIGINAL-URL:https://abecsouth.org
X-WR-CALDESC:Events for ABEC South
REFRESH-INTERVAL;VALUE=DURATION:PT1H
X-Robots-Tag:noindex
X-PUBLISHED-TTL:PT1H
BEGIN:VTIMEZONE
TZID:America/Edmonton
BEGIN:DAYLIGHT
TZOFFSETFROM:-0700
TZOFFSETTO:-0600
TZNAME:MDT
DTSTART:20250309T090000
END:DAYLIGHT
BEGIN:STANDARD
TZOFFSETFROM:-0600
TZOFFSETTO:-0700
TZNAME:MST
DTSTART:20251102T080000
END:STANDARD
BEGIN:DAYLIGHT
TZOFFSETFROM:-0700
TZOFFSETTO:-0600
TZNAME:MDT
DTSTART:20260308T090000
END:DAYLIGHT
BEGIN:STANDARD
TZOFFSETFROM:-0600
TZOFFSETTO:-0700
TZNAME:MST
DTSTART:20261101T080000
END:STANDARD
BEGIN:DAYLIGHT
TZOFFSETFROM:-0700
TZOFFSETTO:-0600
TZNAME:MDT
DTSTART:20270314T090000
END:DAYLIGHT
BEGIN:STANDARD
TZOFFSETFROM:-0600
TZOFFSETTO:-0700
TZNAME:MST
DTSTART:20271107T080000
END:STANDARD
END:VTIMEZONE
BEGIN:VEVENT
DTSTART;TZID=America/Edmonton:20260422T110000
DTEND;TZID=America/Edmonton:20260422T130000
DTSTAMP:20260422T083813
CREATED:20260328T201209Z
LAST-MODIFIED:20260330T151322Z
UID:70848-1776855600-1776862800@abecsouth.org
SUMMARY:ABEC South April 2026 - Luncheon
DESCRIPTION:[vc_row][vc_column][vc_column_text css=””] \n\n\n\n\n\n\nDesign of Adhered Masonry Veneers for Multi-Storey Buildings \n  \nAdhered masonry veneers have become a popular cladding option in Alberta in the last few years\, especially in commercial and multi-family residential buildings that are often multi-storey. As a result\, the use of adhered masonry veneers in multi-storey applications and over exterior insulation has increased significantly. Shear and Tensile bond testing of various bonding mortar and adhered stone combinations was commissioned by the Alberta Masonry Council and has led to recommendations for the design of adhered masonry veneers on multi-storey buildings and over exterior insulation. The presentation is intended to share these considerations with designers for safer installations of adhered masonry veneers specifically over 3 m in height and or over exterior insulation greater than 38 mm in depth. \n  \nPresenter bio: \nDr. Hagel Holds a Bachelor of Science in Actuarial Science and Applied Mathematics\, Bachelor of Science in Civil Engineering\, and a Doctor of Philosophy in Civil Engineering all from the University of Calgary. Prior to employment with the Alberta Masonry Council\, Mark worked for the Canadian Concrete Masonry Producers Association. He then moved on to the role of a Building Envelope Engineer and Structural Engineer with the Calgary office of Halcrow Yolles. Mark’s thesis dissertation\, “Service Life Prediction of Connectors in Masonry Veneer Wall Systems”\, was heavily rooted in building science\, structural engineering\, and the durability of building components. In 2018 Mark served on the National Research Council of Canada’s (NRC) working group that developed the Guideline on Design for Durability of the Building Envelope. Mark has also taught first year and graduate engineering courses as a sessional professor at the University of Calgary. “"\n\n\n\n"”[/vc_column_text][/vc_column][/vc_row]
URL:https://abecsouth.org/event/abec-south-april-2026-luncheon/
LOCATION:Sandman Hotel & Suites Calgary South\, 8001 11 St SE\, Calgary\, AB\, T2H 0B8\, Canada
CATEGORIES:Luncheons
ORGANIZER;CN="ABEC South Events":MAILTO:info@abecsouth.org
END:VEVENT
BEGIN:VEVENT
DTSTART;TZID=America/Edmonton:20260430T180000
DTEND;TZID=America/Edmonton:20260430T200000
DTSTAMP:20260422T083813
CREATED:20260317T021359Z
LAST-MODIFIED:20260331T033132Z
UID:70838-1777572000-1777579200@abecsouth.org
SUMMARY:ABEC South Lauchpad Golf Social
DESCRIPTION:[vc_row][vc_column][vc_column_text css=””] \nABECS Social Event @ LaunchPad\nJoin us April 30\, 2026 | 6–8 PM at LaunchPad Golf.\nCome swing a club\, grab a drink\, and catch up with industry friends.No golf skills required\n“"\n\n\n\n"”[/vc_column_text][/vc_column][/vc_row]
URL:https://abecsouth.org/event/abec-south-lauchpad-golf-social/
LOCATION:Launchpad Heritage Pointe\, 31 Heritage Pointe Dr.\, Heritage Pointe\, Alberta\, 31 Heritage Pointe Dr\, Heritage Pointe\, AB T1S 4H1\, Canada
END:VEVENT
END:VCALENDAR