BEGIN:VCALENDAR
VERSION:2.0
PRODID:-//ABEC South - ECPv6.15.20//NONSGML v1.0//EN
CALSCALE:GREGORIAN
METHOD:PUBLISH
X-WR-CALNAME:ABEC South
X-ORIGINAL-URL:https://abecsouth.org
X-WR-CALDESC:Events for ABEC South
REFRESH-INTERVAL;VALUE=DURATION:PT1H
X-Robots-Tag:noindex
X-PUBLISHED-TTL:PT1H
BEGIN:VTIMEZONE
TZID:America/Edmonton
BEGIN:DAYLIGHT
TZOFFSETFROM:-0700
TZOFFSETTO:-0600
TZNAME:MDT
DTSTART:20250309T090000
END:DAYLIGHT
BEGIN:STANDARD
TZOFFSETFROM:-0600
TZOFFSETTO:-0700
TZNAME:MST
DTSTART:20251102T080000
END:STANDARD
BEGIN:DAYLIGHT
TZOFFSETFROM:-0700
TZOFFSETTO:-0600
TZNAME:MDT
DTSTART:20260308T090000
END:DAYLIGHT
BEGIN:STANDARD
TZOFFSETFROM:-0600
TZOFFSETTO:-0700
TZNAME:MST
DTSTART:20261101T080000
END:STANDARD
BEGIN:DAYLIGHT
TZOFFSETFROM:-0700
TZOFFSETTO:-0600
TZNAME:MDT
DTSTART:20270314T090000
END:DAYLIGHT
BEGIN:STANDARD
TZOFFSETFROM:-0600
TZOFFSETTO:-0700
TZNAME:MST
DTSTART:20271107T080000
END:STANDARD
END:VTIMEZONE
BEGIN:VEVENT
DTSTART;TZID=America/Edmonton:20260128T110000
DTEND;TZID=America/Edmonton:20260128T130000
DTSTAMP:20260422T160416
CREATED:20260108T154234Z
LAST-MODIFIED:20260108T154234Z
UID:70782-1769598000-1769605200@abecsouth.org
SUMMARY:ABEC South January 2026 - Luncheon
DESCRIPTION:[vc_row][vc_column][vc_column_text css=””] \nBird-Friendly Glass Solutions\nArchitecture tells us a great deal about society. In fact\, glass and glazing are used to blur the lines between inside and out\, helping elevate performance and the experiences of people. Yet while humans can use environmental cues to identify glass as a barrier\, there is growing realization that birds cannot. The solution is bird-friendly glass that delivers on performance\, energy efficiency and the needs of people. This presentation provides a better understanding of how to recognize issues affecting the bird population while learning about best practices and design fundamentals for smarter\, safer buildings. \n  \n  \nGeoff Shellard \nRegional Architectural Design Manager for Guardian Glass in central and western North America. \nHe’s been in the glass industry for over ten years working architects\, fabricators\, glaziers and developers. Geoff is based out of Vancouver\, BC and is also on the Board of Directors for Fenestration Canada. “"\n\n\n\n'”[/vc_column_text][/vc_column][/vc_row]
URL:https://abecsouth.org/event/abec-south-january-2026-luncheon/
LOCATION:Sandman Hotel & Suites Calgary South\, 8001 11 St SE\, Calgary\, AB\, T2H 0B8\, Canada
CATEGORIES:Luncheons
ORGANIZER;CN="ABEC South Events":MAILTO:info@abecsouth.org
END:VEVENT
END:VCALENDAR