BEGIN:VCALENDAR
VERSION:2.0
PRODID:-//ABEC South - ECPv6.15.20//NONSGML v1.0//EN
CALSCALE:GREGORIAN
METHOD:PUBLISH
X-WR-CALNAME:ABEC South
X-ORIGINAL-URL:https://abecsouth.org
X-WR-CALDESC:Events for ABEC South
REFRESH-INTERVAL;VALUE=DURATION:PT1H
X-Robots-Tag:noindex
X-PUBLISHED-TTL:PT1H
BEGIN:VTIMEZONE
TZID:America/Edmonton
BEGIN:DAYLIGHT
TZOFFSETFROM:-0700
TZOFFSETTO:-0600
TZNAME:MDT
DTSTART:20250309T090000
END:DAYLIGHT
BEGIN:STANDARD
TZOFFSETFROM:-0600
TZOFFSETTO:-0700
TZNAME:MST
DTSTART:20251102T080000
END:STANDARD
BEGIN:DAYLIGHT
TZOFFSETFROM:-0700
TZOFFSETTO:-0600
TZNAME:MDT
DTSTART:20260308T090000
END:DAYLIGHT
BEGIN:STANDARD
TZOFFSETFROM:-0600
TZOFFSETTO:-0700
TZNAME:MST
DTSTART:20261101T080000
END:STANDARD
BEGIN:DAYLIGHT
TZOFFSETFROM:-0700
TZOFFSETTO:-0600
TZNAME:MDT
DTSTART:20270314T090000
END:DAYLIGHT
BEGIN:STANDARD
TZOFFSETFROM:-0600
TZOFFSETTO:-0700
TZNAME:MST
DTSTART:20271107T080000
END:STANDARD
END:VTIMEZONE
BEGIN:VEVENT
DTSTART;TZID=America/Edmonton:20260225T110000
DTEND;TZID=America/Edmonton:20260225T130000
DTSTAMP:20260422T143849
CREATED:20260203T052133Z
LAST-MODIFIED:20260203T052133Z
UID:70790-1772017200-1772024400@abecsouth.org
SUMMARY:ABEC South February 2026 - Luncheon
DESCRIPTION:[vc_row][vc_column][vc_column_text css=””] \nThe New Standard: Navigating CSA A440.4 Window Installation in Alberta\nWith Alberta’s adoption of the 2023 National Building Code\, CSA guidelines for window installation have changed. Qualistat Building Envelope Consultants have been working closely with these evolving interpretations\, helping builders understand how the standard is being applied in the field and where common inspection issues are arising. \nLooking ahead to the anticipated adoption of the 2025 National Building Code\, CSA A440.4:19 is set to become a long-term requirement in Alberta. At ABEC South on February 25th\, Qualistat will present the intent of this standard and outline practical\, code-compliant window installation approaches to help designers\, builders\, and trades confidently meet current and future compliance expectations. \n\n\nPresenter Bio:\nSteve Cox – Manager\, Qualistat Building Performance Consultants \nSteve Cox is a recognized leader in Alberta’s building science community\, with over a decade of experience in building envelope consulting and high-performance residential construction. As Manager of the Qualistat team\, he is a trusted authority known for guiding complex projects\, mentoring professionals\, and advancing durable\, energy-efficient building practices across the province. A Certified Passive House Consultant through the Passive House Institute\, Steve brings advanced expertise in passive design and low-energy construction. He is a founding member and former board chair of Passive House Alberta and also holds Registered Energy Advisor and CHBA NetZero Energy Advisor designations. His combination of technical depth and hands-on field experience makes him a valued resource for builders\, homeowners\, and industry stakeholders seeking practical\, high-performance solutions. \nSteve is deeply committed to education and knowledge-sharing. He co-developed curriculum for the Canadian Institute for Energy Training Foundation Level and Energy Advisor courses and has delivered formal Energy Advisor training\, including for the Yellowhead Tribal Council. He continues to develop and present building science workshops for builders\, community groups\, and industry peers. Qualistat Building Performance Consultants operates as part of the VT Group of Companies\, delivering integrated building performance\, energy efficiency\, and mechanical design services across residential\, commercial\, industrial\, and institutional projects. \n“"\n\n\n\n"”[/vc_column_text][/vc_column][/vc_row]
URL:https://abecsouth.org/event/abec-south-february-2026-luncheon/
LOCATION:Sandman Hotel & Suites Calgary South\, 8001 11 St SE\, Calgary\, AB\, T2H 0B8\, Canada
CATEGORIES:Luncheons
ORGANIZER;CN="ABEC South Events":MAILTO:info@abecsouth.org
END:VEVENT
END:VCALENDAR